BEGIN:VCALENDAR
VERSION:2.0
PRODID:-//Central Christian Church - ECPv5.16.4//NONSGML v1.0//EN
CALSCALE:GREGORIAN
METHOD:PUBLISH
X-WR-CALNAME:Central Christian Church
X-ORIGINAL-URL:https://ccchurchhilo.org
X-WR-CALDESC:Events for Central Christian Church
REFRESH-INTERVAL;VALUE=DURATION:PT1H
X-Robots-Tag:noindex
X-PUBLISHED-TTL:PT1H
BEGIN:VTIMEZONE
TZID:UTC
BEGIN:STANDARD
TZOFFSETFROM:+0000
TZOFFSETTO:+0000
TZNAME:UTC
DTSTART:20210101T000000
END:STANDARD
END:VTIMEZONE
BEGIN:VEVENT
DTSTART;TZID=UTC:20211112T180000
DTEND;TZID=UTC:20211112T193000
DTSTAMP:20260424T092457
CREATED:20211110T174508Z
LAST-MODIFIED:20211110T174508Z
UID:11857-1636740000-1636745400@ccchurchhilo.org
SUMMARY:Young Adult Ministry
DESCRIPTION:Young Adult Ministry each Friday at 6pm.
URL:https://ccchurchhilo.org/event/young-adult-ministry/
LOCATION:Central Christian Church\, 109 Haili Street\, Hilo\, HI\, 96720\, United States
END:VEVENT
BEGIN:VEVENT
DTSTART;TZID=UTC:20211113T093000
DTEND;TZID=UTC:20211113T113000
DTSTAMP:20260424T092457
CREATED:20211110T173416Z
LAST-MODIFIED:20211110T173416Z
UID:11848-1636795800-1636803000@ccchurchhilo.org
SUMMARY:Men's Bible Study
DESCRIPTION:Men’s Bible Study every Saturday at 9:30am
URL:https://ccchurchhilo.org/event/mens-bible-study/
LOCATION:Central Christian Church\, 109 Haili Street\, Hilo\, HI\, 96720\, United States
END:VEVENT
BEGIN:VEVENT
DTSTART;TZID=UTC:20211113T093000
DTEND;TZID=UTC:20211113T113000
DTSTAMP:20260424T092457
CREATED:20211110T175306Z
LAST-MODIFIED:20211110T175306Z
UID:11860-1636795800-1636803000@ccchurchhilo.org
SUMMARY:Women's Meeting (Pot Blessing)
DESCRIPTION:More information coming soon!
URL:https://ccchurchhilo.org/event/womens-meeting-pot-blessing/
LOCATION:Central Christian Church\, 109 Haili Street\, Hilo\, HI\, 96720\, United States
END:VEVENT
BEGIN:VEVENT
DTSTART;TZID=UTC:20211114T090000
DTEND;TZID=UTC:20211114T110000
DTSTAMP:20260424T092457
CREATED:20211110T172659Z
LAST-MODIFIED:20211110T172849Z
UID:11843-1636880400-1636887600@ccchurchhilo.org
SUMMARY:Sunday Service
DESCRIPTION:Church service Sundays at 9am in Hilo.
URL:https://ccchurchhilo.org/event/sunday-service/
LOCATION:Central Christian Church\, 109 Haili Street\, Hilo\, HI\, 96720\, United States
END:VEVENT
BEGIN:VEVENT
DTSTART;TZID=UTC:20211116T180000
DTEND;TZID=UTC:20211116T193000
DTSTAMP:20260424T092457
CREATED:20211110T173633Z
LAST-MODIFIED:20211110T173633Z
UID:11850-1637085600-1637091000@ccchurchhilo.org
SUMMARY:Current Events Meeting
DESCRIPTION:Join us for our weekly Current Events Meeting at 6pm.
URL:https://ccchurchhilo.org/event/current-events-meeting/
LOCATION:Central Christian Church\, 109 Haili Street\, Hilo\, HI\, 96720\, United States
END:VEVENT
BEGIN:VEVENT
DTSTART;TZID=UTC:20211118T173000
DTEND;TZID=UTC:20211118T183000
DTSTAMP:20260424T092457
CREATED:20211110T173923Z
LAST-MODIFIED:20211110T173923Z
UID:11852-1637256600-1637260200@ccchurchhilo.org
SUMMARY:Prayer
DESCRIPTION:Join us for at time of prayer from 5:30pm to 6:30pm.
URL:https://ccchurchhilo.org/event/prayer/
LOCATION:Central Christian Church\, 109 Haili Street\, Hilo\, HI\, 96720\, United States
END:VEVENT
BEGIN:VEVENT
DTSTART;TZID=UTC:20211120T083000
DTEND;TZID=UTC:20211120T100000
DTSTAMP:20260424T092457
CREATED:20211110T175455Z
LAST-MODIFIED:20211110T175513Z
UID:11862-1637397000-1637402400@ccchurchhilo.org
SUMMARY:Men's Breakfast
DESCRIPTION:More information coming soon!
URL:https://ccchurchhilo.org/event/mens-breakfast/
LOCATION:Central Christian Church\, 109 Haili Street\, Hilo\, HI\, 96720\, United States
END:VEVENT
BEGIN:VEVENT
DTSTART;TZID=UTC:20211121T110000
DTEND;TZID=UTC:20211121T123000
DTSTAMP:20260424T092457
CREATED:20211110T175640Z
LAST-MODIFIED:20211110T175715Z
UID:11864-1637492400-1637497800@ccchurchhilo.org
SUMMARY:Thanksgiving Luncheon
DESCRIPTION:Please join us after Sunday service for a Thanksgiving luncheon.
URL:https://ccchurchhilo.org/event/thanksgiving-luncheon/
LOCATION:Central Christian Church\, 109 Haili Street\, Hilo\, HI\, 96720\, United States
END:VEVENT
BEGIN:VEVENT
DTSTART;TZID=UTC:20211124T183000
DTEND;TZID=UTC:20211124T203000
DTSTAMP:20260424T092457
CREATED:20211110T174338Z
LAST-MODIFIED:20211110T174338Z
UID:11855-1637778600-1637785800@ccchurchhilo.org
SUMMARY:Prophetic Worship Night
DESCRIPTION:Prophetic Worship Night the last Wednesday of the month at 6:30pm.
URL:https://ccchurchhilo.org/event/prophetic-worship-night/
LOCATION:Central Christian Church\, 109 Haili Street\, Hilo\, HI\, 96720\, United States
END:VEVENT
END:VCALENDAR