BEGIN:VCALENDAR
VERSION:2.0
PRODID:-//Central Christian Church - ECPv5.16.4//NONSGML v1.0//EN
CALSCALE:GREGORIAN
METHOD:PUBLISH
X-ORIGINAL-URL:https://ccchurchhilo.org
X-WR-CALDESC:Events for Central Christian Church
REFRESH-INTERVAL;VALUE=DURATION:PT1H
X-Robots-Tag:noindex
X-PUBLISHED-TTL:PT1H
BEGIN:VTIMEZONE
TZID:UTC
BEGIN:STANDARD
TZOFFSETFROM:+0000
TZOFFSETTO:+0000
TZNAME:UTC
DTSTART:20210101T000000
END:STANDARD
END:VTIMEZONE
BEGIN:VEVENT
DTSTART;TZID=UTC:20211222T173000
DTEND;TZID=UTC:20211222T200000
DTSTAMP:20260424T090252
CREATED:20211209T003349Z
LAST-MODIFIED:20211209T003349Z
UID:11913-1640194200-1640203200@ccchurchhilo.org
SUMMARY:Prayer and Worship service
DESCRIPTION:Wednesday night is our prayer from 5:30pm to 6:30pm followed by our weekly worship and service.
URL:https://ccchurchhilo.org/event/prayer-and-worship-service/
END:VEVENT
END:VCALENDAR