BEGIN:VCALENDAR
VERSION:2.0
PRODID:-//Central Christian Church - ECPv5.16.4//NONSGML v1.0//EN
CALSCALE:GREGORIAN
METHOD:PUBLISH
X-ORIGINAL-URL:https://ccchurchhilo.org
X-WR-CALDESC:Events for Central Christian Church
REFRESH-INTERVAL;VALUE=DURATION:PT1H
X-Robots-Tag:noindex
X-PUBLISHED-TTL:PT1H
BEGIN:VTIMEZONE
TZID:UTC
BEGIN:STANDARD
TZOFFSETFROM:+0000
TZOFFSETTO:+0000
TZNAME:UTC
DTSTART:20210101T000000
END:STANDARD
END:VTIMEZONE
BEGIN:VEVENT
DTSTART;TZID=UTC:20211219T110000
DTEND;TZID=UTC:20211219T133000
DTSTAMP:20260424T092347
CREATED:20211208T234807Z
LAST-MODIFIED:20211208T234814Z
UID:11905-1639911600-1639920600@ccchurchhilo.org
SUMMARY:Christmas Fellowship Luncheon
DESCRIPTION:Our Christmas Fellowship Luncheon will be on Sunday December 19th right after service this is a pot blessing so bring something to share
URL:https://ccchurchhilo.org/event/christmas-fellowship-luncheon-2/
END:VEVENT
END:VCALENDAR