BEGIN:VCALENDAR
VERSION:2.0
PRODID:-//Central Christian Church - ECPv5.16.4//NONSGML v1.0//EN
CALSCALE:GREGORIAN
METHOD:PUBLISH
X-ORIGINAL-URL:https://ccchurchhilo.org
X-WR-CALDESC:Events for Central Christian Church
REFRESH-INTERVAL;VALUE=DURATION:PT1H
X-Robots-Tag:noindex
X-PUBLISHED-TTL:PT1H
BEGIN:VTIMEZONE
TZID:UTC
BEGIN:STANDARD
TZOFFSETFROM:+0000
TZOFFSETTO:+0000
TZNAME:UTC
DTSTART:20210101T000000
END:STANDARD
END:VTIMEZONE
BEGIN:VEVENT
DTSTART;TZID=UTC:20210922T060000
DTEND;TZID=UTC:20210922T200000
DTSTAMP:20260424T135821
CREATED:20210922T231414Z
LAST-MODIFIED:20210922T231414Z
UID:11822-1632290400-1632340800@ccchurchhilo.org
SUMMARY:Community Support Meeting
DESCRIPTION:Community support meeting addressing current events\, health\, meaningful community involvement.  Opportunity to network and contribute to current needs of the community in unprecedented times.
URL:https://ccchurchhilo.org/event/community-support-meeting/
END:VEVENT
END:VCALENDAR