BEGIN:VCALENDAR
VERSION:2.0
PRODID:-//Central Christian Church - ECPv5.16.4//NONSGML v1.0//EN
CALSCALE:GREGORIAN
METHOD:PUBLISH
X-ORIGINAL-URL:https://ccchurchhilo.org
X-WR-CALDESC:Events for Central Christian Church
REFRESH-INTERVAL;VALUE=DURATION:PT1H
X-Robots-Tag:noindex
X-PUBLISHED-TTL:PT1H
BEGIN:VTIMEZONE
TZID:UTC
BEGIN:STANDARD
TZOFFSETFROM:+0000
TZOFFSETTO:+0000
TZNAME:UTC
DTSTART:20210101T000000
END:STANDARD
END:VTIMEZONE
BEGIN:VEVENT
DTSTART;TZID=UTC:20210903T080000
DTEND;TZID=UTC:20210905T170000
DTSTAMP:20260424T135933
CREATED:20210831T211753Z
LAST-MODIFIED:20210831T211753Z
UID:11717-1630656000-1630861200@ccchurchhilo.org
SUMMARY:Big Weekend 2021
DESCRIPTION:Join us for Big Weekend on the weekend of September 3rd\, 2021 for a time of meeting and fellowship.
URL:https://ccchurchhilo.org/event/big-weekend-2021/
LOCATION:Venue Name\, address\, HI\, United States
END:VEVENT
END:VCALENDAR